BEGIN:VCALENDAR
VERSION:2.0
PRODID:-//Beckington Benefice - ECPv6.15.20//NONSGML v1.0//EN
CALSCALE:GREGORIAN
METHOD:PUBLISH
X-WR-CALNAME:Beckington Benefice
X-ORIGINAL-URL:https://beckingtonbenefice.org
X-WR-CALDESC:Events for Beckington Benefice
REFRESH-INTERVAL;VALUE=DURATION:PT1H
X-Robots-Tag:noindex
X-PUBLISHED-TTL:PT1H
BEGIN:VTIMEZONE
TZID:Europe/London
BEGIN:DAYLIGHT
TZOFFSETFROM:+0000
TZOFFSETTO:+0100
TZNAME:BST
DTSTART:20250330T010000
END:DAYLIGHT
BEGIN:STANDARD
TZOFFSETFROM:+0100
TZOFFSETTO:+0000
TZNAME:GMT
DTSTART:20251026T010000
END:STANDARD
BEGIN:DAYLIGHT
TZOFFSETFROM:+0000
TZOFFSETTO:+0100
TZNAME:BST
DTSTART:20260329T010000
END:DAYLIGHT
BEGIN:STANDARD
TZOFFSETFROM:+0100
TZOFFSETTO:+0000
TZNAME:GMT
DTSTART:20261025T010000
END:STANDARD
BEGIN:DAYLIGHT
TZOFFSETFROM:+0000
TZOFFSETTO:+0100
TZNAME:BST
DTSTART:20270328T010000
END:DAYLIGHT
BEGIN:STANDARD
TZOFFSETFROM:+0100
TZOFFSETTO:+0000
TZNAME:GMT
DTSTART:20271031T010000
END:STANDARD
END:VTIMEZONE
BEGIN:VEVENT
DTSTART;TZID=Europe/London:20260613T193000
DTEND;TZID=Europe/London:20260613T213000
DTSTAMP:20260420T135237
CREATED:20260321T042514Z
LAST-MODIFIED:20260419T204318Z
UID:10012378-1781379000-1781386200@beckingtonbenefice.org
SUMMARY:Cosi Fan Tutte
DESCRIPTION:Related
URL:https://beckingtonbenefice.org/event/cosi-fan-tutte/
LOCATION:St George’s\, Beckington
CATEGORIES:Community Events
END:VEVENT
END:VCALENDAR