BEGIN:VCALENDAR
VERSION:2.0
PRODID:-//Beckington Benefice - ECPv6.15.20//NONSGML v1.0//EN
CALSCALE:GREGORIAN
METHOD:PUBLISH
X-ORIGINAL-URL:https://beckingtonbenefice.org
X-WR-CALDESC:Events for Beckington Benefice
REFRESH-INTERVAL;VALUE=DURATION:PT1H
X-Robots-Tag:noindex
X-PUBLISHED-TTL:PT1H
BEGIN:VTIMEZONE
TZID:Europe/London
BEGIN:DAYLIGHT
TZOFFSETFROM:+0000
TZOFFSETTO:+0100
TZNAME:BST
DTSTART:20250330T010000
END:DAYLIGHT
BEGIN:STANDARD
TZOFFSETFROM:+0100
TZOFFSETTO:+0000
TZNAME:GMT
DTSTART:20251026T010000
END:STANDARD
BEGIN:DAYLIGHT
TZOFFSETFROM:+0000
TZOFFSETTO:+0100
TZNAME:BST
DTSTART:20260329T010000
END:DAYLIGHT
BEGIN:STANDARD
TZOFFSETFROM:+0100
TZOFFSETTO:+0000
TZNAME:GMT
DTSTART:20261025T010000
END:STANDARD
BEGIN:DAYLIGHT
TZOFFSETFROM:+0000
TZOFFSETTO:+0100
TZNAME:BST
DTSTART:20270328T010000
END:DAYLIGHT
BEGIN:STANDARD
TZOFFSETFROM:+0100
TZOFFSETTO:+0000
TZNAME:GMT
DTSTART:20271031T010000
END:STANDARD
END:VTIMEZONE
BEGIN:VEVENT
DTSTART;TZID=Europe/London:20260904T130000
DTEND;TZID=Europe/London:20260904T140000
DTSTAMP:20260420T122355
CREATED:20250417T120944Z
LAST-MODIFIED:20260419T130958Z
UID:10009084-1788526800-1788530400@beckingtonbenefice.org
SUMMARY:Wedding of Benjamin  Johnsonn  JOHNSON & Lucie  Elizabeth   CAREY
DESCRIPTION:
URL:https://beckingtonbenefice.org/event/wedding-of-benjamin-johnsonn-johnson-lucie-elizabeth-carey/
LOCATION:St Mary’s Church\, Beckington and Selwood\, United Kingdom
CATEGORIES:Life Events
GEO:51.2445414984;-2.27078511004
END:VEVENT
BEGIN:VEVENT
DTSTART;TZID=Europe/London:20260905T140000
DTEND;TZID=Europe/London:20260905T150000
DTSTAMP:20260420T122356
CREATED:20250812T162648Z
LAST-MODIFIED:20250813T163950Z
UID:10010475-1788616800-1788620400@beckingtonbenefice.org
SUMMARY:Wedding of Frazer Edward  COOKE & Rhiannon   OGDEN-JONES
DESCRIPTION:
URL:https://beckingtonbenefice.org/event/wedding-of-frazer-edward-cooke-rhiannon-ogden-jones/
LOCATION:St Mary’s Church\, Beckington and Selwood\, United Kingdom
CATEGORIES:Life Events
GEO:51.2445414984;-2.27078511004
END:VEVENT
BEGIN:VEVENT
DTSTART;TZID=Europe/London:20260905T160000
DTEND;TZID=Europe/London:20260905T170000
DTSTAMP:20260420T122356
CREATED:20260209T222532Z
LAST-MODIFIED:20260417T131005Z
UID:10012185-1788624000-1788627600@beckingtonbenefice.org
SUMMARY:Wedding of Richard Wilfred Mark KAYE & Emma Louise  UFFINDELL
DESCRIPTION:
URL:https://beckingtonbenefice.org/event/wedding-of-richard-wilfred-mark-kaye-emma-louise-uffindell/
LOCATION:St Katharine’s Church\, Beckington and Selwood\, United Kingdom
CATEGORIES:Life Events
GEO:51.1953238086;-2.3000380654
END:VEVENT
BEGIN:VEVENT
DTSTART;TZID=Europe/London:20260926T140000
DTEND;TZID=Europe/London:20260926T150000
DTSTAMP:20260420T122356
CREATED:20250611T171011Z
LAST-MODIFIED:20260402T022914Z
UID:10009992-1790431200-1790434800@beckingtonbenefice.org
SUMMARY:Wedding of Edward Peter  WALKER & Rachel Marie  WILLIS
DESCRIPTION:
URL:https://beckingtonbenefice.org/event/wedding-of-edward-peter-walker-rachel-marie-willis/
LOCATION:All Saints’ Church\, Rode and Norton St Philip\, United Kingdom
CATEGORIES:Life Events
GEO:51.265388941;-2.30988316618
END:VEVENT
BEGIN:VEVENT
DTSTART;TZID=Europe/London:20260926T140000
DTEND;TZID=Europe/London:20260926T150000
DTSTAMP:20260420T122356
CREATED:20260414T130943Z
LAST-MODIFIED:20260417T131005Z
UID:10012970-1790431200-1790434800@beckingtonbenefice.org
SUMMARY:Wedding of Samuel John  CLARK & Joanne   PENNEY
DESCRIPTION:
URL:https://beckingtonbenefice.org/event/wedding-of-samuel-john-clark-joanne-penney/
LOCATION:St Mary’s Church\, Beckington and Selwood\, United Kingdom
CATEGORIES:Life Events
GEO:51.2445414984;-2.27078511004
END:VEVENT
END:VCALENDAR