BEGIN:VCALENDAR
VERSION:2.0
PRODID:-//Beckington Benefice - ECPv6.15.20//NONSGML v1.0//EN
CALSCALE:GREGORIAN
METHOD:PUBLISH
X-WR-CALNAME:Beckington Benefice
X-ORIGINAL-URL:https://beckingtonbenefice.org
X-WR-CALDESC:Events for Beckington Benefice
REFRESH-INTERVAL;VALUE=DURATION:PT1H
X-Robots-Tag:noindex
X-PUBLISHED-TTL:PT1H
BEGIN:VTIMEZONE
TZID:Europe/London
BEGIN:DAYLIGHT
TZOFFSETFROM:+0000
TZOFFSETTO:+0100
TZNAME:BST
DTSTART:20250330T010000
END:DAYLIGHT
BEGIN:STANDARD
TZOFFSETFROM:+0100
TZOFFSETTO:+0000
TZNAME:GMT
DTSTART:20251026T010000
END:STANDARD
BEGIN:DAYLIGHT
TZOFFSETFROM:+0000
TZOFFSETTO:+0100
TZNAME:BST
DTSTART:20260329T010000
END:DAYLIGHT
BEGIN:STANDARD
TZOFFSETFROM:+0100
TZOFFSETTO:+0000
TZNAME:GMT
DTSTART:20261025T010000
END:STANDARD
BEGIN:DAYLIGHT
TZOFFSETFROM:+0000
TZOFFSETTO:+0100
TZNAME:BST
DTSTART:20270328T010000
END:DAYLIGHT
BEGIN:STANDARD
TZOFFSETFROM:+0100
TZOFFSETTO:+0000
TZNAME:GMT
DTSTART:20271031T010000
END:STANDARD
END:VTIMEZONE
BEGIN:VEVENT
DTSTART;TZID=Europe/London:20260420T090000
DTEND;TZID=Europe/London:20260420T093000
DTSTAMP:20260420T111247
CREATED:20250417T124030Z
LAST-MODIFIED:20260210T221226Z
UID:10009400-1776675600-1776677400@beckingtonbenefice.org
SUMMARY:Prayer @ Beckington
DESCRIPTION:
URL:https://beckingtonbenefice.org/event/prayer-beckington-53/
LOCATION:St George’s Church\, Beckington
CATEGORIES:Services
END:VEVENT
BEGIN:VEVENT
DTSTART;TZID=Europe/London:20260420T100000
DTEND;TZID=Europe/London:20260420T113000
DTSTAMP:20260420T111247
CREATED:20250416T125038Z
LAST-MODIFIED:20260416T195635Z
UID:10008802-1776679200-1776684600@beckingtonbenefice.org
SUMMARY:Tai Chi
DESCRIPTION:
URL:https://beckingtonbenefice.org/event/tai-chi-61/
LOCATION:Beckington Memorial Hall\, Bath Road\, Beckington and Selwood\, United Kingdom
CATEGORIES:Community Events
GEO:51.269105431908;-2.2870477261553
X-APPLE-STRUCTURED-LOCATION;VALUE=URI;X-ADDRESS=Beckington Memorial Hall Bath Road Beckington and Selwood United Kingdom;X-APPLE-RADIUS=500;X-TITLE=Bath Road:geo:-2.2870477261553,51.269105431908
END:VEVENT
BEGIN:VEVENT
DTSTART;TZID=Europe/London:20260420T181500
DTEND;TZID=Europe/London:20260420T191500
DTSTAMP:20260420T111247
CREATED:20250416T125039Z
LAST-MODIFIED:20260416T195635Z
UID:10008803-1776708900-1776712500@beckingtonbenefice.org
SUMMARY:Dance
DESCRIPTION:
URL:https://beckingtonbenefice.org/event/dance-61/
LOCATION:Beckington Memorial Hall\, Bath Road\, Beckington and Selwood\, United Kingdom
CATEGORIES:Community Events
GEO:51.269105431908;-2.2870477261553
X-APPLE-STRUCTURED-LOCATION;VALUE=URI;X-ADDRESS=Beckington Memorial Hall Bath Road Beckington and Selwood United Kingdom;X-APPLE-RADIUS=500;X-TITLE=Bath Road:geo:-2.2870477261553,51.269105431908
END:VEVENT
END:VCALENDAR